1100.00000000000000
0.00000000000000
0.00000000000000
-1100.00000000000000
-699525.30700000000000
3129616.18100000000000
